BEGIN:VCALENDAR
VERSION:2.0
PRODID:-//CASA of Jefferson and Gilpin Counties - ECPv6.15.20//NONSGML v1.0//EN
CALSCALE:GREGORIAN
METHOD:PUBLISH
X-WR-CALNAME:CASA of Jefferson and Gilpin Counties
X-ORIGINAL-URL:https://www.casajeffcogilpin.com
X-WR-CALDESC:Events for CASA of Jefferson and Gilpin Counties
REFRESH-INTERVAL;VALUE=DURATION:PT1H
X-Robots-Tag:noindex
X-PUBLISHED-TTL:PT1H
BEGIN:VTIMEZONE
TZID:UTC
BEGIN:STANDARD
TZOFFSETFROM:+0000
TZOFFSETTO:+0000
TZNAME:UTC
DTSTART:20250101T000000
END:STANDARD
END:VTIMEZONE
BEGIN:VEVENT
DTSTART;TZID=UTC:20260310T170000
DTEND;TZID=UTC:20260310T180000
DTSTAMP:20260419T171801
CREATED:20260226T195952Z
LAST-MODIFIED:20260226T195952Z
UID:8549-1773162000-1773165600@www.casajeffcogilpin.com
SUMMARY:March 2026 Swearing-In Ceremony
DESCRIPTION:Join us for our new volunteer swearing-in ceremony!
URL:https://www.casajeffcogilpin.com/event/march-2026-swearing-in-ceremony/
LOCATION:Jefferson County Courthouse\, 100 Jefferson County Pkwy\, Golden\, CO\, 80401\, United States
CATEGORIES:New Volunteer Training
ORGANIZER;CN="Jill Dalton":MAILTO:jilldalton@casajeffcogilpin.com
END:VEVENT
BEGIN:VEVENT
DTSTART;TZID=UTC:20260311T110000
DTEND;TZID=UTC:20260311T150000
DTSTAMP:20260419T171801
CREATED:20260303T180619Z
LAST-MODIFIED:20260303T180619Z
UID:8592-1773226800-1773241200@www.casajeffcogilpin.com
SUMMARY:National Book Club - Spring 2026
DESCRIPTION:The new National CASA/GAL Book Club selection is Poverty\, by America by Matthew Desmond. \nIn Poverty\, by America\, Desmond challenges the notion that poverty is inevitable\, revealing how it is actively produced and sustained by systems\, policies\, and everyday choices. With clarity and urgency\, the book asks readers to examine who benefits from poverty in the United States—and what responsibility we share in ending it. Grounded in research and lived experience\, the book calls for collective action and moral reckoning\, making it a powerful selection for advocates committed to children and families. \nJoin us for a series of facilitated discussions beginning March 11\, 2026\, with sessions held at 10am PT | 1pm ET and 1pm PT | 4pm ET\, and continuing at the same times on April 1 and  April 15. \nRegister for the first discussion here: \n10am PT | 1pm ET https://nationalcasagal.zoom.us/meeting/register/-bMhwAa4T7eU0_F8DOei4Q#/registration \n1pm PT | 4pm ET https://nationalcasagal.zoom.us/meeting/register/Jv21Pc20RaWrx7OZZcCDCw#/registration \nDiscussion one will cover chapters 1-3. In these opening chapters\, Desmond challenges common assumptions about poverty and reframes it as a systemic issue rooted in policy\, power\, and collective choices—not individual failure. Together\, we’ll explore how poverty impacts children and families\, why it persists in one of the wealthiest nations in the world\, and what this means for advocates working in child welfare. \nRegistration for the following discussions is available under meetings.
URL:https://www.casajeffcogilpin.com/event/national-book-club-spring-2026/
LOCATION:Jefferson County Courthouse\, 100 Jefferson County Pkwy\, Golden\, CO\, 80401\, United States
CATEGORIES:Book Club
END:VEVENT
BEGIN:VEVENT
DTSTART;TZID=UTC:20260311T173000
DTEND;TZID=UTC:20260311T183000
DTSTAMP:20260419T171801
CREATED:20260226T201612Z
LAST-MODIFIED:20260226T201612Z
UID:8578-1773250200-1773253800@www.casajeffcogilpin.com
SUMMARY:CASA 101 - March 2026
DESCRIPTION:March 11th 2025  5:30pm – 6:30pm\n\nEvent Address: 100 Jefferson County Parkway\,  Dear Creek Room\, Golden\, CO 80401 \n\n\n\nParking is available on both of the upper lots at the courthouse. Enter through the main entrance and the Bear Creek room is on the first floor on the left hand side. There will be signs to help direct you. \n\nWe will have a quick program to learn more about volunteering with CASA Jeffco/Gilpin. Get the opportunity to meet other current and prospective volunteers. All current CASA/YA volunteers are encouraged to attend and bring a friend!  \n\n\nRSVP HERE\n\n\nReach out to Jill with any additional questions.\njilldalton@casajeffcogilpin.com | (303) 271-6539
URL:https://www.casajeffcogilpin.com/event/casa-101-march-2026/
LOCATION:Jefferson County Courthouse\, 100 Jefferson County Pkwy\, Golden\, CO\, 80401\, United States
CATEGORIES:CASA 101
ORGANIZER;CN="Jill Dalton":MAILTO:jilldalton@casajeffcogilpin.com
END:VEVENT
BEGIN:VEVENT
DTSTART;TZID=UTC:20260318T113000
DTEND;TZID=UTC:20260318T130000
DTSTAMP:20260419T171801
CREATED:20260120T175935Z
LAST-MODIFIED:20260120T180022Z
UID:8450-1773833400-1773838800@www.casajeffcogilpin.com
SUMMARY:Lunch & Learn - Mindfulness for CASA Wellbeing
DESCRIPTION:More Info to Come \nRSVP HERE
URL:https://www.casajeffcogilpin.com/event/lunch-learn-march2026/
LOCATION:Zoom
CATEGORIES:Community Events,In-Service Trainings
END:VEVENT
BEGIN:VEVENT
DTSTART;TZID=UTC:20260319T180000
DTEND;TZID=UTC:20260319T200000
DTSTAMP:20260419T171801
CREATED:20260202T171749Z
LAST-MODIFIED:20260202T171749Z
UID:8474-1773943200-1773950400@www.casajeffcogilpin.com
SUMMARY:CASA Book Club - March 2026
DESCRIPTION:he CASA Book Club will be meeting on Thursday\, March 19\, at 6 pm at the Jeffco Courthouse. We will convene in a meeting room on the first floor. Go left at the elevators.  \nThe movie we will watch and discuss is The Blind Side (2009). This film is a story of Michael Oher\, a homeless teen taken in and adopted (?) by a family. Michael eventually becomes an NFL football player. \nThe movie was chosen in part for issues related to older youth\, the lifelong impact of care/adoption of older youth\, and legal aspects of adoption/care. The book will provide some links to a new CASA role\, Youth in Transition (YIT). Additional insight into this new role will be discussed. \nThe actor who played Michael\, Quinton Aaron is currently battling health issues. \nThe movie is available on Amazon. \nWatch the movie and come prepared to discuss how the movie impacts your current or past cases and how we might apply concepts to our mission. Watching and coming to the meeting earns training credit. Continuing education credit changes for our Book Club are also on the agenda. \nNote that our CASA Book Club meets regularly every other month on the 3rd Thursday and alternates between books and movies related to foster care\, adoption and fulfilling the mission of the best interests of children. \nContact Larry Varys with questions at larryvarys@aol.com.
URL:https://www.casajeffcogilpin.com/event/casa-book-club-march-2026/
LOCATION:Jefferson County Courthouse\, 100 Jefferson County Pkwy\, Golden\, CO\, 80401\, United States
CATEGORIES:Book Club
ORGANIZER;CN="Larry Varys":MAILTO:larryvarys@aol.com
END:VEVENT
BEGIN:VEVENT
DTSTART;TZID=UTC:20260325T100000
DTEND;TZID=UTC:20260325T113000
DTSTAMP:20260419T171801
CREATED:20260226T200245Z
LAST-MODIFIED:20260226T200245Z
UID:8551-1774432800-1774438200@www.casajeffcogilpin.com
SUMMARY:CASAs Connect - March 2026
DESCRIPTION:CASAs Connect: Support\, Share\, and Learn \nCASAs Connect is a monthly gathering for CASA Volunteers to come together\, share experiences\, and discuss their cases in a supportive environment. It’s a chance to ask questions\, offer advice\, and connect with fellow advocates. This year\, CASAs Connect is also hosting a Speaker Series\, bringing valuable insights and expert perspectives to enhance your advocacy. Join us to stay engaged\, informed\, and inspired! \nJefferson County Courthouse\, Bear Creek Room \n  \nThis Month’s Topic: \nHow do you motivate the CASA child/youth you work with? Please come to share your ideas and learn from others. 
URL:https://www.casajeffcogilpin.com/event/casas-connect-march-2026/
LOCATION:Jefferson County Courthouse\, 100 Jefferson County Pkwy\, Golden\, CO\, 80401\, United States
CATEGORIES:CASAs Connect
ORGANIZER;CN="Debbie Gabriel":MAILTO:debbiegabriel@casajeffcogilpin.com
END:VEVENT
END:VCALENDAR